BEGIN:VCALENDAR
VERSION:2.0
PRODID:-//GT Motorsports Club - ECPv6.15.20//NONSGML v1.0//EN
CALSCALE:GREGORIAN
METHOD:PUBLISH
X-WR-CALNAME:GT Motorsports Club
X-ORIGINAL-URL:https://club.gtmotorsports.org
X-WR-CALDESC:Events for GT Motorsports Club
REFRESH-INTERVAL;VALUE=DURATION:PT1H
X-Robots-Tag:noindex
X-PUBLISHED-TTL:PT1H
BEGIN:VTIMEZONE
TZID:UTC
BEGIN:STANDARD
TZOFFSETFROM:+0000
TZOFFSETTO:+0000
TZNAME:UTC
DTSTART:20250101T000000
END:STANDARD
END:VTIMEZONE
BEGIN:VEVENT
DTSTART;VALUE=DATE:20260221
DTEND;VALUE=DATE:20260222
DTSTAMP:20260423T222955
CREATED:20251216T140242Z
LAST-MODIFIED:20251216T140242Z
UID:114345-1771632000-1771718399@club.gtmotorsports.org
SUMMARY:SCDA - WINTER Car Control Clinic
DESCRIPTION:Open to All Drivers/Experience levels
URL:https://club.gtmotorsports.org/event/scda-winter-car-control-clinic-3/
LOCATION:Lime Rock Park\, 60 White Hollow Rd\, Lakeville\, CT\, 06039\, United States
CATEGORIES:Track Day
ATTACH;FMTTYPE=image/jpeg:https://club.gtmotorsports.org/wp-content/uploads/2025/12/unnamed-11-1.jpg
ORGANIZER;CN="Sports Car Driving Association (SCDA)":MAILTO:elivan@scda1.com
END:VEVENT
END:VCALENDAR