BEGIN:VCALENDAR
VERSION:2.0
PRODID:-//GT Motorsports Club - ECPv6.15.20//NONSGML v1.0//EN
CALSCALE:GREGORIAN
METHOD:PUBLISH
X-ORIGINAL-URL:https://club.gtmotorsports.org
X-WR-CALDESC:Events for GT Motorsports Club
REFRESH-INTERVAL;VALUE=DURATION:PT1H
X-Robots-Tag:noindex
X-PUBLISHED-TTL:PT1H
BEGIN:VTIMEZONE
TZID:UTC
BEGIN:STANDARD
TZOFFSETFROM:+0000
TZOFFSETTO:+0000
TZNAME:UTC
DTSTART:20250101T000000
END:STANDARD
END:VTIMEZONE
BEGIN:VEVENT
DTSTART;TZID=UTC:20260321T083000
DTEND;TZID=UTC:20260321T123000
DTSTAMP:20260423T221720
CREATED:20260311T122536Z
LAST-MODIFIED:20260311T122644Z
UID:116657-1774081800-1774096200@club.gtmotorsports.org
SUMMARY:SCDA Lime Rock Park (Proving Grounds) - Car Control Clinic
DESCRIPTION:March 21st\, 2026 | Saturday | 8:30am-12:30pm \nCar Control Clinic\nOpen to All Experience Level Drivers\nWet Skid Pad & Auto X course\nProfessional Classroom and Coaching
URL:https://club.gtmotorsports.org/event/scda-lime-rock-park-proving-grounds-car-control-clinic/
LOCATION:Lime Rock Park\, 60 White Hollow Rd\, Lakeville\, CT\, 06039\, United States
CATEGORIES:Track Day
ATTACH;FMTTYPE=image/jpeg:https://club.gtmotorsports.org/wp-content/uploads/2026/03/unnamed-1.jpg
ORGANIZER;CN="Sports Car Driving Association (SCDA)":MAILTO:elivan@scda1.com
END:VEVENT
BEGIN:VEVENT
DTSTART;TZID=UTC:20260321T130000
DTEND;TZID=UTC:20260321T170000
DTSTAMP:20260423T221720
CREATED:20260311T122848Z
LAST-MODIFIED:20260311T122848Z
UID:116703-1774098000-1774112400@club.gtmotorsports.org
SUMMARY:SCDA Lime Rock Park
DESCRIPTION:March 21st\, 2026 | Saturday | 1pm-5pm \nOpen to All Experience Level Drivers\n4 Sessions on Track\nProfessional Classroom and Coaching\n$50 off Audi/Porsche/VW drivers\nEarly Registration discount- up to $50
URL:https://club.gtmotorsports.org/event/scda-lime-rock-park-4/
LOCATION:Lime Rock Park\, 60 White Hollow Rd\, Lakeville\, CT\, 06039\, United States
CATEGORIES:Track Day
ATTACH;FMTTYPE=image/jpeg:https://club.gtmotorsports.org/wp-content/uploads/2026/03/unnamed-2.jpg
ORGANIZER;CN="Sports Car Driving Association (SCDA)":MAILTO:elivan@scda1.com
END:VEVENT
END:VCALENDAR