BEGIN:VCALENDAR
VERSION:2.0
PRODID:-//GT Motorsports Club - ECPv6.15.20//NONSGML v1.0//EN
CALSCALE:GREGORIAN
METHOD:PUBLISH
X-WR-CALNAME:GT Motorsports Club
X-ORIGINAL-URL:https://club.gtmotorsports.org
X-WR-CALDESC:Events for GT Motorsports Club
REFRESH-INTERVAL;VALUE=DURATION:PT1H
X-Robots-Tag:noindex
X-PUBLISHED-TTL:PT1H
BEGIN:VTIMEZONE
TZID:UTC
BEGIN:STANDARD
TZOFFSETFROM:+0000
TZOFFSETTO:+0000
TZNAME:UTC
DTSTART:20250101T000000
END:STANDARD
END:VTIMEZONE
BEGIN:VEVENT
DTSTART;VALUE=DATE:20260622
DTEND;VALUE=DATE:20260624
DTSTAMP:20260423T222943
CREATED:20260110T105524Z
LAST-MODIFIED:20260110T105524Z
UID:114439-1782086400-1782259199@club.gtmotorsports.org
SUMMARY:NEQ 2-Day HPDE @ Club Motorsports - Tamworth\, NH
DESCRIPTION:The perfect spot for some summer sightseeing and high speed driving. Club Motorsports is a fantastic track a short drive north of Lake Winnipesaukee in New Hampshire.   REGISTER NOW
URL:https://club.gtmotorsports.org/event/neq-2-day-hpde-club-motorsports-tamworth-nh/
LOCATION:Club Motorsports\, NH-25\, Tamworth\, NH\, 03886\, United States
CATEGORIES:Track Day
ATTACH;FMTTYPE=image/jpeg:https://club.gtmotorsports.org/wp-content/uploads/2025/01/unnamed-2-2.jpg
ORGANIZER;CN="Audi Club NorthEast Region":MAILTO:audiclubnortheast@gmail.com
END:VEVENT
END:VCALENDAR