BEGIN:VCALENDAR
VERSION:2.0
PRODID:-//GT Motorsports Club - ECPv6.15.20//NONSGML v1.0//EN
CALSCALE:GREGORIAN
METHOD:PUBLISH
X-WR-CALNAME:GT Motorsports Club
X-ORIGINAL-URL:https://club.gtmotorsports.org
X-WR-CALDESC:Events for GT Motorsports Club
REFRESH-INTERVAL;VALUE=DURATION:PT1H
X-Robots-Tag:noindex
X-PUBLISHED-TTL:PT1H
BEGIN:VTIMEZONE
TZID:UTC
BEGIN:STANDARD
TZOFFSETFROM:+0000
TZOFFSETTO:+0000
TZNAME:UTC
DTSTART:20250101T000000
END:STANDARD
END:VTIMEZONE
BEGIN:VEVENT
DTSTART;VALUE=DATE:20260518
DTEND;VALUE=DATE:20260520
DTSTAMP:20260423T220702
CREATED:20260415T140952Z
LAST-MODIFIED:20260415T140952Z
UID:124872-1779062400-1779235199@club.gtmotorsports.org
SUMMARY:SCDA Lime Rock Park
DESCRIPTION:May 18-19\, 2026 | Monday & Tuesday \n\nOpen to All Experience Level Drivers\n4-5 Sessions on Track (Monday)\nUnmuffled OPEN Track (Tuesday)\nProfessional Classroom and Coaching\n$50 off MAZDA drivers\nEarly Registration discount- up to $50
URL:https://club.gtmotorsports.org/event/scda-lime-rock-park-6/
LOCATION:Lime Rock Park\, 60 White Hollow Rd\, Lakeville\, CT\, 06039\, United States
CATEGORIES:Track Day
ATTACH;FMTTYPE=image/jpeg:https://club.gtmotorsports.org/wp-content/uploads/2026/04/scda_limerock_2026-2.jpg
ORGANIZER;CN="Sports Car Driving Association (SCDA)":MAILTO:elivan@scda1.com
END:VEVENT
BEGIN:VEVENT
DTSTART;TZID=UTC:20260519T083000
DTEND;TZID=UTC:20260519T123000
DTSTAMP:20260423T220702
CREATED:20260415T141142Z
LAST-MODIFIED:20260415T141142Z
UID:124876-1779179400-1779193800@club.gtmotorsports.org
SUMMARY:SCDA Lime Rock Park (Proving Grounds)
DESCRIPTION:May 19th\, 2026 | Tuesday | 8:30am-12:30pm \n\nCar Control Clinic\nOpen to All Experience Level Drivers\nWet Skid Pad & Auto X course\nProfessional Classroom and Coaching\nEarly Registration discount- up to $30
URL:https://club.gtmotorsports.org/event/scda-lime-rock-park-proving-grounds-2/
LOCATION:Lime Rock Park\, 60 White Hollow Rd\, Lakeville\, CT\, 06039\, United States
CATEGORIES:Track Day
ATTACH;FMTTYPE=image/jpeg:https://club.gtmotorsports.org/wp-content/uploads/2026/04/scda_limerock_hpdc_2026-2.jpg
ORGANIZER;CN="Sports Car Driving Association (SCDA)":MAILTO:elivan@scda1.com
END:VEVENT
BEGIN:VEVENT
DTSTART;VALUE=DATE:20260522
DTEND;VALUE=DATE:20260523
DTSTAMP:20260423T220702
CREATED:20260415T141317Z
LAST-MODIFIED:20260415T141317Z
UID:124878-1779408000-1779494399@club.gtmotorsports.org
SUMMARY:SCDA Palmer Motorsports Park
DESCRIPTION:May 22nd\, 2026 | Friday | Full Day \n\nOpen to All Experience Level Drivers\n4-5 Sessions on Track + Open Track\nProfessional Classroom and Coaching\n$50 off Porsche/Audi/VW Drivers\nEarly Registration discount- up to $50
URL:https://club.gtmotorsports.org/event/scda-palmer-motorsports-park/
LOCATION:Palmer Motorsports Park\, 58 W Ware Rd\, Palmer\, MA\, 01069\, United States
CATEGORIES:Track Day
ATTACH;FMTTYPE=image/jpeg:https://club.gtmotorsports.org/wp-content/uploads/2026/04/scda_palmer_2026.jpg
ORGANIZER;CN="Sports Car Driving Association (SCDA)":MAILTO:elivan@scda1.com
END:VEVENT
BEGIN:VEVENT
DTSTART;VALUE=DATE:20260529
DTEND;VALUE=DATE:20260530
DTSTAMP:20260423T220702
CREATED:20260415T225323Z
LAST-MODIFIED:20260415T225323Z
UID:124936-1780012800-1780099199@club.gtmotorsports.org
SUMMARY:Colonial Challenge Cup
DESCRIPTION:CCC Track Day – Friday\, May 29\, 2026 \nSummit Point Motorsports Park (Main Track) Entry Fee: $385 per driver \nThe Colonial Challenge Cup Track Day directly supports first‑generation students as they pursue higher education and take part in hands‑on development work abroad. Following on from the success of the Cambodia program in 2024\, in which two Annapolis Trust students spent a month working on community‑driven projects\, this summer we are partnering with Travelteer (travelteer.co.uk) to send two more students to Sri Lanka to support coastal conservation and community education initiatives. We are also continuing our long‑term commitment to help build a new elementary school in Zimbabwe. \nEarly Bird Registration (closes April 24) \n\n$50 off for the first 25 drivers\nOne complimentary spectator pass\n\nEvent highlights \n\nStrict 30‑driver limit for maximum track time\nFree outdoor reception with live music\, awards\, and the Irish Pub\nCCC Golf Challenge and other paddock activities\nCars & Coffee–style infield — bring your classic or vintage car and park it trackside\n\nSpaces are already filling\, and the Early Bird window closes soon. Register now at @CCC Track Day 5-29-26 to secure your discount\, and help support students make a real impact in the world. \nThe CCC Team
URL:https://club.gtmotorsports.org/event/colonial-challenge-cup-3/
LOCATION:Summit Point Raceway\, 201 Motorsports Park Cir\, Summit Point\, WV\, 25446\, United States
CATEGORIES:Track Day
ATTACH;FMTTYPE=image/jpeg:https://club.gtmotorsports.org/wp-content/uploads/2025/05/OIP.jpg
END:VEVENT
BEGIN:VEVENT
DTSTART;VALUE=DATE:20260530
DTEND;VALUE=DATE:20260601
DTSTAMP:20260423T220702
CREATED:20260415T141457Z
LAST-MODIFIED:20260415T141457Z
UID:124880-1780099200-1780271999@club.gtmotorsports.org
SUMMARY:SCDA POCONO Raceway
DESCRIPTION:May 30-31\, 2026 | Saturday/Sunday | Full Day \n\nOpen to All Experience Level Drivers\n4-5 Sessions on Track (Saturday)\nOPEN TRACK (Sunday)\nProfessional Classroom and Coaching\n$50 off CHEVY Drivers\nEarly Registration discount- up to $50
URL:https://club.gtmotorsports.org/event/scda-pocono-raceway/
LOCATION:Pocono Raceway\, 1234 Long Pond Rd\, Long Pond\, PA\, 18334\, United States
CATEGORIES:Track Day
ATTACH;FMTTYPE=image/jpeg:https://club.gtmotorsports.org/wp-content/uploads/2026/04/scda_pocono_2026.jpg
ORGANIZER;CN="Sports Car Driving Association (SCDA)":MAILTO:elivan@scda1.com
END:VEVENT
BEGIN:VEVENT
DTSTART;VALUE=DATE:20260605
DTEND;VALUE=DATE:20260608
DTSTAMP:20260423T220702
CREATED:20260322T123539Z
LAST-MODIFIED:20260415T153125Z
UID:122111-1780617600-1780876799@club.gtmotorsports.org
SUMMARY:PCA Potomac - Watkins Glen DE
DESCRIPTION:PCA POTOMAC DRIVERS EDUCATION: Registration for 2026 Season Now Open  \n2026 DE Schedule* \n\n\n\nMAR 8\nSPRING HPDC\nSUMMIT PT JEFFERSON\n\n\nMAR 21-22\nFIRST DE\nSUMMIT PT MAIN\n\n\nAPRIL 10-12\nVIR DE\nVIR\n\n\nMAY 15-17\nNJ MSPORT THBOLT DE\nNJMP\n\n\nJUNE 5-7\nWATKINS GLEN DE\nWGI\n\n\nJUNE 27-28\nSHENANDOAH DE\nSUMMIT PT SHENANDOAH\n\n\nJULY 24-26\nPORSCHEFEST\nSUMMIT PT MAIN\n\n\nAUG 21-23\nLATE SUMMER DE\nSUMMIT PT MAIN\n\n\nSEPT 26\nFALL HPDC\nSUMMIT PT JEFFERSON\n\n\nSEPT 27\nWOMENS HPDC\nSUMMIT PT JEFFERSON\n\n\nOCT 17-18\nLAST DE\nSUMMIT PT MAIN\n\n\n\n* Registration open on MSR (Motorsportreg.com). See Tentative Schedule above. Register early and avoid wait lists! \nThe 2026 DE Schedule has improved scheduling dates (i.e.\, no event on Mother’s Day) and the addition of New Jersey Motorsports Park (since Pitt Race has closed).  Updates and details will be available on the Potomac DE website at: pcapotomac.org \nDE QUESTIONS: \nDE Chairs – Bob Mulligan/David Dean \ndechair@pcapotomac.org \nDE Registrars \nderegistrar@pcapotomac.org
URL:https://club.gtmotorsports.org/event/pca-potomac-watkins-glen-de/
LOCATION:Watkins Glen International\, 2790 County Road 16\, Watkins Glen\, NY\, 14891\, United States
CATEGORIES:Track Day
ATTACH;FMTTYPE=image/png:https://club.gtmotorsports.org/wp-content/uploads/2023/10/th_23rt33345u_pca_potomac_region_logo.png
END:VEVENT
BEGIN:VEVENT
DTSTART;VALUE=DATE:20260627
DTEND;VALUE=DATE:20260629
DTSTAMP:20260423T220702
CREATED:20260322T123637Z
LAST-MODIFIED:20260322T103558Z
UID:122119-1782518400-1782691199@club.gtmotorsports.org
SUMMARY:PCA Potomac - Summit Point\, Shenandoah DE
DESCRIPTION:PCA POTOMAC DRIVERS EDUCATION: Registration for 2026 Season Now Open  \n2026 DE Schedule* \n\n\n\nMAR 8\nSPRING HPDC\nSUMMIT PT JEFFERSON\n\n\nMAR 21-22\nFIRST DE\nSUMMIT PT MAIN\n\n\nAPRIL 10-12\nVIR DE\nVIR\n\n\nMAY 15-17\nNJ MSPORT THBOLT DE\nNJMP\n\n\nJUNE 5-7\nWATKINS GLEN DE\nWGI\n\n\nJUNE 27-28\nSHENANDOAH DE\nSUMMIT PT SHENANDOAH\n\n\nJULY 24-26\nPORSCHEFEST\nSUMMIT PT MAIN\n\n\nAUG 21-23\nLATE SUMMER DE\nSUMMIT PT MAIN\n\n\nSEPT 26\nFALL HPDC\nSUMMIT PT JEFFERSON\n\n\nSEPT 27\nWOMENS HPDC\nSUMMIT PT JEFFERSON\n\n\nOCT 17-18\nLAST DE\nSUMMIT PT MAIN\n\n\n\n* Registration open on MSR (Motorsportreg.com). See Tentative Schedule above. Register early and avoid wait lists! \nThe 2026 DE Schedule has improved scheduling dates (i.e.\, no event on Mother’s Day) and the addition of New Jersey Motorsports Park (since Pitt Race has closed).  Updates and details will be available on the Potomac DE website at: pcapotomac.org \nDE QUESTIONS: \nDE Chairs – Bob Mulligan/David Dean \ndechair@pcapotomac.org \nDE Registrars \nderegistrar@pcapotomac.org
URL:https://club.gtmotorsports.org/event/pca-potomac-summit-point-shenandoah-de/
LOCATION:Summit Point Raceway\, 201 Motorsports Park Cir\, Summit Point\, WV\, 25446\, United States
CATEGORIES:Track Day
ATTACH;FMTTYPE=image/png:https://club.gtmotorsports.org/wp-content/uploads/2023/10/th_23rt33345u_pca_potomac_region_logo.png
END:VEVENT
BEGIN:VEVENT
DTSTART;VALUE=DATE:20260622
DTEND;VALUE=DATE:20260624
DTSTAMP:20260423T220702
CREATED:20260110T105524Z
LAST-MODIFIED:20260110T105524Z
UID:114439-1782086400-1782259199@club.gtmotorsports.org
SUMMARY:NEQ 2-Day HPDE @ Club Motorsports - Tamworth\, NH
DESCRIPTION:The perfect spot for some summer sightseeing and high speed driving. Club Motorsports is a fantastic track a short drive north of Lake Winnipesaukee in New Hampshire.   REGISTER NOW
URL:https://club.gtmotorsports.org/event/neq-2-day-hpde-club-motorsports-tamworth-nh/
LOCATION:Club Motorsports\, NH-25\, Tamworth\, NH\, 03886\, United States
CATEGORIES:Track Day
ATTACH;FMTTYPE=image/jpeg:https://club.gtmotorsports.org/wp-content/uploads/2025/01/unnamed-2-2.jpg
ORGANIZER;CN="Audi Club NorthEast Region":MAILTO:audiclubnortheast@gmail.com
END:VEVENT
BEGIN:VEVENT
DTSTART;VALUE=DATE:20260627
DTEND;VALUE=DATE:20260629
DTSTAMP:20260423T220702
CREATED:20251216T133937Z
LAST-MODIFIED:20251216T133937Z
UID:114310-1782518400-1782691199@club.gtmotorsports.org
SUMMARY:WDCR Dominion HPDE
DESCRIPTION:Below is the tentative WDCR 2026 Track Days Schedule for Dominion Raceway events. Plans are underway for an additional event at Dominion in 2026\, and we will share the date once finalized. \nApril 11-12\, 2026 \nJune 27-28\, 2026 \nNovember 14-15\, 2026
URL:https://club.gtmotorsports.org/event/wdcr-dominion-hpde-2/
LOCATION:Dominion Raceway & Entertainment\, 6501 Dominion Raceway Ave\, Woodford\, VA\, 22580\, United States
CATEGORIES:Track Day
ATTACH;FMTTYPE=image/webp:https://club.gtmotorsports.org/wp-content/uploads/2025/12/OIP-1.webp
ORGANIZER;CN="WDCR-SCCA":MAILTO:cluboffice@wdcr-scca.org
END:VEVENT
BEGIN:VEVENT
DTSTART;VALUE=DATE:20260717
DTEND;VALUE=DATE:20260719
DTSTAMP:20260423T220702
CREATED:20260110T110030Z
LAST-MODIFIED:20260110T110030Z
UID:114456-1784246400-1784419199@club.gtmotorsports.org
SUMMARY:NEQ 2-Day HPDE @ Palmer\, MA
DESCRIPTION:Learn about high performance vehicle dynamics in the twists and turns of the majestic Palmer Motorsports Park\, in Palmer MA.   REGISTER NOW
URL:https://club.gtmotorsports.org/event/neq-2-day-hpde-palmer-ma/
LOCATION:Palmer Motorsports Park\, 58 W Ware Rd\, Palmer\, MA\, 01069\, United States
CATEGORIES:Track Day
ATTACH;FMTTYPE=image/jpeg:https://club.gtmotorsports.org/wp-content/uploads/2025/01/unnamed-2-2.jpg
ORGANIZER;CN="Audi Club NorthEast Region":MAILTO:audiclubnortheast@gmail.com
END:VEVENT
BEGIN:VEVENT
DTSTART;VALUE=DATE:20260718
DTEND;VALUE=DATE:20260720
DTSTAMP:20260423T220702
CREATED:20260420T174055Z
LAST-MODIFIED:20260420T174149Z
UID:124970-1784332800-1784505599@club.gtmotorsports.org
SUMMARY:EMRA - NJMP\, Lightning & Thunderbolt
DESCRIPTION:two road courses – Lightning is a shorter\, fast 1.9-mile technical circuit with quick transitions while Thunderbolt is a longer 2.25-mile track. More straights and varied corners allows higher speeds at Thunderbolt
URL:https://club.gtmotorsports.org/event/emra-njmp-lightning-thundetrbolt/
LOCATION:New Jersey Motorsports Park (NJMP)\, 8000 Dividing Creek Road\, Millville\, NJ\, 08332\, United States
CATEGORIES:Track Day
ATTACH;FMTTYPE=image/jpeg:https://club.gtmotorsports.org/wp-content/uploads/2026/04/emra_2_2026.jpg
END:VEVENT
BEGIN:VEVENT
DTSTART;VALUE=DATE:20260724
DTEND;VALUE=DATE:20260727
DTSTAMP:20260423T220702
CREATED:20260322T123728Z
LAST-MODIFIED:20260322T103641Z
UID:122125-1784851200-1785110399@club.gtmotorsports.org
SUMMARY:PCA Potomac - PorscheFest
DESCRIPTION:PCA POTOMAC DRIVERS EDUCATION: Registration for 2026 Season Now Open  \n2026 DE Schedule* \n\n\n\nMAR 8\nSPRING HPDC\nSUMMIT PT JEFFERSON\n\n\nMAR 21-22\nFIRST DE\nSUMMIT PT MAIN\n\n\nAPRIL 10-12\nVIR DE\nVIR\n\n\nMAY 15-17\nNJ MSPORT THBOLT DE\nNJMP\n\n\nJUNE 5-7\nWATKINS GLEN DE\nWGI\n\n\nJUNE 27-28\nSHENANDOAH DE\nSUMMIT PT SHENANDOAH\n\n\nJULY 24-26\nPORSCHEFEST\nSUMMIT PT MAIN\n\n\nAUG 21-23\nLATE SUMMER DE\nSUMMIT PT MAIN\n\n\nSEPT 26\nFALL HPDC\nSUMMIT PT JEFFERSON\n\n\nSEPT 27\nWOMENS HPDC\nSUMMIT PT JEFFERSON\n\n\nOCT 17-18\nLAST DE\nSUMMIT PT MAIN\n\n\n\n* Registration open on MSR (Motorsportreg.com). See Tentative Schedule above. Register early and avoid wait lists! \nThe 2026 DE Schedule has improved scheduling dates (i.e.\, no event on Mother’s Day) and the addition of New Jersey Motorsports Park (since Pitt Race has closed).  Updates and details will be available on the Potomac DE website at: pcapotomac.org \nDE QUESTIONS: \nDE Chairs – Bob Mulligan/David Dean \ndechair@pcapotomac.org \nDE Registrars \nderegistrar@pcapotomac.org
URL:https://club.gtmotorsports.org/event/pca-potomac-porschefest/
LOCATION:Summit Point Raceway\, 201 Motorsports Park Cir\, Summit Point\, WV\, 25446\, United States
CATEGORIES:Track Day
ATTACH;FMTTYPE=image/png:https://club.gtmotorsports.org/wp-content/uploads/2023/10/th_23rt33345u_pca_potomac_region_logo.png
END:VEVENT
BEGIN:VEVENT
DTSTART;VALUE=DATE:20260926
DTEND;VALUE=DATE:20260927
DTSTAMP:20260423T220702
CREATED:20260322T123920Z
LAST-MODIFIED:20260322T103749Z
UID:122134-1790380800-1790467199@club.gtmotorsports.org
SUMMARY:PCA Potomac - Fall HPDC
DESCRIPTION:PCA POTOMAC DRIVERS EDUCATION: Registration for 2026 Season Now Open  \n2026 DE Schedule* \n\n\n\nMAR 8\nSPRING HPDC\nSUMMIT PT JEFFERSON\n\n\nMAR 21-22\nFIRST DE\nSUMMIT PT MAIN\n\n\nAPRIL 10-12\nVIR DE\nVIR\n\n\nMAY 15-17\nNJ MSPORT THBOLT DE\nNJMP\n\n\nJUNE 5-7\nWATKINS GLEN DE\nWGI\n\n\nJUNE 27-28\nSHENANDOAH DE\nSUMMIT PT SHENANDOAH\n\n\nJULY 24-26\nPORSCHEFEST\nSUMMIT PT MAIN\n\n\nAUG 21-23\nLATE SUMMER DE\nSUMMIT PT MAIN\n\n\nSEPT 26\nFALL HPDC\nSUMMIT PT JEFFERSON\n\n\nSEPT 27\nWOMENS HPDC\nSUMMIT PT JEFFERSON\n\n\nOCT 17-18\nLAST DE\nSUMMIT PT MAIN\n\n\n\n* Registration open on MSR (Motorsportreg.com). See Tentative Schedule above. Register early and avoid wait lists! \nThe 2026 DE Schedule has improved scheduling dates (i.e.\, no event on Mother’s Day) and the addition of New Jersey Motorsports Park (since Pitt Race has closed).  Updates and details will be available on the Potomac DE website at: pcapotomac.org \nDE QUESTIONS: \nDE Chairs – Bob Mulligan/David Dean \ndechair@pcapotomac.org \nDE Registrars \nderegistrar@pcapotomac.org
URL:https://club.gtmotorsports.org/event/pca-potomac-fall-hpdc/
LOCATION:Summit Point Raceway\, 201 Motorsports Park Cir\, Summit Point\, WV\, 25446\, United States
CATEGORIES:Track Day
ATTACH;FMTTYPE=image/png:https://club.gtmotorsports.org/wp-content/uploads/2023/10/th_23rt33345u_pca_potomac_region_logo.png
END:VEVENT
BEGIN:VEVENT
DTSTART;VALUE=DATE:20260810
DTEND;VALUE=DATE:20260812
DTSTAMP:20260423T220702
CREATED:20260110T110319Z
LAST-MODIFIED:20260110T110319Z
UID:114464-1786320000-1786492799@club.gtmotorsports.org
SUMMARY:NEQ 2-Day HPDE @ Watkins Glen #1 - Watkins Glen\, NY
DESCRIPTION:Walk in the footsteps of racing legends. You can really see what your car can do in Watkins Glen\, NY. This event often sells out quickly.  REGISTER NOW
URL:https://club.gtmotorsports.org/event/neq-2-day-hpde-watkins-glen-1-watkins-glen-ny/
LOCATION:Palmer Motorsports Park\, 58 W Ware Rd\, Palmer\, MA\, 01069\, United States
CATEGORIES:Track Day
ATTACH;FMTTYPE=image/jpeg:https://club.gtmotorsports.org/wp-content/uploads/2024/06/unnamed-13-1.jpg
ORGANIZER;CN="Audi Club NorthEast Region":MAILTO:audiclubnortheast@gmail.com
END:VEVENT
BEGIN:VEVENT
DTSTART;VALUE=DATE:20260821
DTEND;VALUE=DATE:20260824
DTSTAMP:20260423T220702
CREATED:20260322T123856Z
LAST-MODIFIED:20260322T103708Z
UID:123199-1787270400-1787529599@club.gtmotorsports.org
SUMMARY:PCA Potomac - Last Summer DE
DESCRIPTION:PCA POTOMAC DRIVERS EDUCATION: Registration for 2026 Season Now Open  \n2026 DE Schedule* \n\n\n\nMAR 8\nSPRING HPDC\nSUMMIT PT JEFFERSON\n\n\nMAR 21-22\nFIRST DE\nSUMMIT PT MAIN\n\n\nAPRIL 10-12\nVIR DE\nVIR\n\n\nMAY 15-17\nNJ MSPORT THBOLT DE\nNJMP\n\n\nJUNE 5-7\nWATKINS GLEN DE\nWGI\n\n\nJUNE 27-28\nSHENANDOAH DE\nSUMMIT PT SHENANDOAH\n\n\nJULY 24-26\nPORSCHEFEST\nSUMMIT PT MAIN\n\n\nAUG 21-23\nLATE SUMMER DE\nSUMMIT PT MAIN\n\n\nSEPT 26\nFALL HPDC\nSUMMIT PT JEFFERSON\n\n\nSEPT 27\nWOMENS HPDC\nSUMMIT PT JEFFERSON\n\n\nOCT 17-18\nLAST DE\nSUMMIT PT MAIN\n\n\n\n* Registration open on MSR (Motorsportreg.com). See Tentative Schedule above. Register early and avoid wait lists! \nThe 2026 DE Schedule has improved scheduling dates (i.e.\, no event on Mother’s Day) and the addition of New Jersey Motorsports Park (since Pitt Race has closed).  Updates and details will be available on the Potomac DE website at: pcapotomac.org \nDE QUESTIONS: \nDE Chairs – Bob Mulligan/David Dean \ndechair@pcapotomac.org \nDE Registrars \nderegistrar@pcapotomac.org
URL:https://club.gtmotorsports.org/event/pca-potomac-last-summer-de/
LOCATION:Summit Point Raceway\, 201 Motorsports Park Cir\, Summit Point\, WV\, 25446\, United States
CATEGORIES:Track Day
ATTACH;FMTTYPE=image/png:https://club.gtmotorsports.org/wp-content/uploads/2023/10/th_23rt33345u_pca_potomac_region_logo.png
END:VEVENT
BEGIN:VEVENT
DTSTART;VALUE=DATE:20261017
DTEND;VALUE=DATE:20261019
DTSTAMP:20260423T220702
CREATED:20260322T124013Z
LAST-MODIFIED:20260322T103827Z
UID:123214-1792195200-1792367999@club.gtmotorsports.org
SUMMARY:PCA Potomac - Last DE
DESCRIPTION:PCA POTOMAC DRIVERS EDUCATION: Registration for 2026 Season Now Open  \n2026 DE Schedule* \n\n\n\nMAR 8\nSPRING HPDC\nSUMMIT PT JEFFERSON\n\n\nMAR 21-22\nFIRST DE\nSUMMIT PT MAIN\n\n\nAPRIL 10-12\nVIR DE\nVIR\n\n\nMAY 15-17\nNJ MSPORT THBOLT DE\nNJMP\n\n\nJUNE 5-7\nWATKINS GLEN DE\nWGI\n\n\nJUNE 27-28\nSHENANDOAH DE\nSUMMIT PT SHENANDOAH\n\n\nJULY 24-26\nPORSCHEFEST\nSUMMIT PT MAIN\n\n\nAUG 21-23\nLATE SUMMER DE\nSUMMIT PT MAIN\n\n\nSEPT 26\nFALL HPDC\nSUMMIT PT JEFFERSON\n\n\nSEPT 27\nWOMENS HPDC\nSUMMIT PT JEFFERSON\n\n\nOCT 17-18\nLAST DE\nSUMMIT PT MAIN\n\n\n\n* Registration open on MSR (Motorsportreg.com). See Tentative Schedule above. Register early and avoid wait lists! \nThe 2026 DE Schedule has improved scheduling dates (i.e.\, no event on Mother’s Day) and the addition of New Jersey Motorsports Park (since Pitt Race has closed).  Updates and details will be available on the Potomac DE website at: pcapotomac.org \nDE QUESTIONS: \nDE Chairs – Bob Mulligan/David Dean \ndechair@pcapotomac.org \nDE Registrars \nderegistrar@pcapotomac.org
URL:https://club.gtmotorsports.org/event/pca-potomac-last-de/
LOCATION:Summit Point Raceway\, 201 Motorsports Park Cir\, Summit Point\, WV\, 25446\, United States
CATEGORIES:Track Day
ATTACH;FMTTYPE=image/png:https://club.gtmotorsports.org/wp-content/uploads/2023/10/th_23rt33345u_pca_potomac_region_logo.png
END:VEVENT
BEGIN:VEVENT
DTSTART;VALUE=DATE:20260829
DTEND;VALUE=DATE:20260831
DTSTAMP:20260423T220702
CREATED:20260420T174332Z
LAST-MODIFIED:20260420T174332Z
UID:124973-1787961600-1788134399@club.gtmotorsports.org
SUMMARY:EMRA - Pocono Raceway\, Southeast & South
DESCRIPTION:South is a tighter\, shorter technical circuit while Southeast is a slightly longer configuration with a mix of infield turns and portions of the oval that allow higher speeds and more G forces!
URL:https://club.gtmotorsports.org/event/emra-pocono-raceway-southeast-south/
LOCATION:Pocono Raceway\, 1234 Long Pond Rd\, Long Pond\, PA\, 18334\, United States
CATEGORIES:Track Day
ATTACH;FMTTYPE=image/jpeg:https://club.gtmotorsports.org/wp-content/uploads/2026/04/emra_3_2026.jpg
END:VEVENT
BEGIN:VEVENT
DTSTART;VALUE=DATE:20260921
DTEND;VALUE=DATE:20260923
DTSTAMP:20260423T220702
CREATED:20260110T110803Z
LAST-MODIFIED:20260110T110803Z
UID:114478-1789948800-1790121599@club.gtmotorsports.org
SUMMARY:NEQ 2-Day HPDE @ Watkins Glen #2 - Watkins Glen\, NY
DESCRIPTION:We’re heading back to Watkins Glen in September for a second HPDE event\, giving drivers another chance to take on one of the most iconic tracks in North America. If you loved it the first time or missed out last month\, this is your opportunity to get back on track and keep the momentum going   REGISTER NOW
URL:https://club.gtmotorsports.org/event/neq-2-day-hpde-watkins-glen-2-watkins-glen-ny/
LOCATION:Watkins Glen Elementary School Auditorium\, 612 S Decatur St\, Watkins Glen\, NY\, 14891\, United States
CATEGORIES:Track Day
ATTACH;FMTTYPE=image/jpeg:https://club.gtmotorsports.org/wp-content/uploads/2025/04/unnamed-1-1.jpg
ORGANIZER;CN="Audi Club NorthEast Region":MAILTO:audiclubnortheast@gmail.com
END:VEVENT
BEGIN:VEVENT
DTSTART;VALUE=DATE:20260926
DTEND;VALUE=DATE:20260927
DTSTAMP:20260423T220702
CREATED:20260420T174519Z
LAST-MODIFIED:20260420T174519Z
UID:124975-1790380800-1790467199@club.gtmotorsports.org
SUMMARY:EMRA - Lime Rock
DESCRIPTION:A historic 1.5-mile road course known for its fast\, flowing corners\, minimal elevation changes\, and continuous racing layout with no traditional chicanes.
URL:https://club.gtmotorsports.org/event/emra-lime-rock/
LOCATION:Lime Rock Park\, 60 White Hollow Rd\, Lakeville\, CT\, 06039\, United States
CATEGORIES:Track Day
ATTACH;FMTTYPE=image/jpeg:https://club.gtmotorsports.org/wp-content/uploads/2026/04/emra_4_2026.jpg
END:VEVENT
BEGIN:VEVENT
DTSTART;VALUE=DATE:20261114
DTEND;VALUE=DATE:20261116
DTSTAMP:20260423T220702
CREATED:20251216T133951Z
LAST-MODIFIED:20251216T133951Z
UID:114309-1794614400-1794787199@club.gtmotorsports.org
SUMMARY:WDCR Dominion HPDE
DESCRIPTION:Below is the tentative WDCR 2026 Track Days Schedule for Dominion Raceway events. Plans are underway for an additional event at Dominion in 2026\, and we will share the date once finalized. \nApril 11-12\, 2026 \nJune 27-28\, 2026 \nNovember 14-15\, 2026
URL:https://club.gtmotorsports.org/event/wdcr-dominion-hpde-3/
LOCATION:Dominion Raceway & Entertainment\, 6501 Dominion Raceway Ave\, Woodford\, VA\, 22580\, United States
CATEGORIES:Track Day
ATTACH;FMTTYPE=image/webp:https://club.gtmotorsports.org/wp-content/uploads/2025/12/OIP-1.webp
ORGANIZER;CN="WDCR-SCCA":MAILTO:cluboffice@wdcr-scca.org
END:VEVENT
END:VCALENDAR