BEGIN:VCALENDAR
VERSION:2.0
PRODID:-//GT Motorsports Club - ECPv6.15.20//NONSGML v1.0//EN
CALSCALE:GREGORIAN
METHOD:PUBLISH
X-WR-CALNAME:GT Motorsports Club
X-ORIGINAL-URL:https://club.gtmotorsports.org
X-WR-CALDESC:Events for GT Motorsports Club
REFRESH-INTERVAL;VALUE=DURATION:PT1H
X-Robots-Tag:noindex
X-PUBLISHED-TTL:PT1H
BEGIN:VTIMEZONE
TZID:UTC
BEGIN:STANDARD
TZOFFSETFROM:+0000
TZOFFSETTO:+0000
TZNAME:UTC
DTSTART:20240101T000000
END:STANDARD
END:VTIMEZONE
BEGIN:VEVENT
DTSTART;VALUE=DATE:20250813
DTEND;VALUE=DATE:20250815
DTSTAMP:20260420T190141
CREATED:20250113T141640Z
LAST-MODIFIED:20250113T141640Z
UID:72532-1755043200-1755215999@club.gtmotorsports.org
SUMMARY:ACNA - 2-Day HPDE @ Watkins Glen International\, NY
DESCRIPTION:Walk in the footsteps of racing legends. You can really see what your car can do in Watkins Glen\, NY. This event often sells out quickly.
URL:https://club.gtmotorsports.org/event/acna-2-day-hpde-watkins-glen-international-ny/
LOCATION:Watkins Glen International\, 2790 County Road 16\, Watkins Glen\, NY\, 14891\, United States
CATEGORIES:Track Day
ATTACH;FMTTYPE=image/jpeg:https://club.gtmotorsports.org/wp-content/uploads/2024/06/unnamed-13-1.jpg
ORGANIZER;CN="Audi Club NorthEast Region":MAILTO:audiclubnortheast@gmail.com
END:VEVENT
END:VCALENDAR